BEGIN:VCALENDAR
VERSION:2.0
PRODID:icalendar-ruby
CALSCALE:GREGORIAN
METHOD:PUBLISH
BEGIN:VEVENT
DTSTAMP:20260421T233110Z
UID:5-1509517@gilbertumc.org
DTSTART:20261004T180000Z
DTEND:20261004T190000Z
CLASS:PUBLIC
CREATED:20260421T154818
DESCRIPTION:Sunday Worship
LAST-MODIFIED:20260421T154818
LOCATION:
SUMMARY:Sunday Worship
URL;VALUE=URI:https://firstgilbert.church/events/sunday-worship/2026-10-04
END:VEVENT
END:VCALENDAR
