BEGIN:VCALENDAR
VERSION:2.0
PRODID:icalendar-ruby
CALSCALE:GREGORIAN
METHOD:PUBLISH
BEGIN:VEVENT
DTSTAMP:20260421T152335Z
UID:5-1508047@gilbertumc.org
DTSTART:20260830T180000Z
DTEND:20260830T190000Z
CLASS:PUBLIC
CREATED:20260421T075349
DESCRIPTION:Sunday Worship
LAST-MODIFIED:20260421T075349
LOCATION:
SUMMARY:Sunday Worship
URL;VALUE=URI:https://firstgilbert.church/events/sunday-worship/2026-08-30
END:VEVENT
END:VCALENDAR
