BEGIN:VCALENDAR
VERSION:2.0
PRODID:icalendar-ruby
CALSCALE:GREGORIAN
METHOD:PUBLISH
BEGIN:VEVENT
DTSTAMP:20260421T135726Z
UID:5-1507558@gilbertumc.org
DTSTART:20260823T180000Z
DTEND:20260823T190000Z
CLASS:PUBLIC
CREATED:20260421T051827
DESCRIPTION:Sunday Worship
LAST-MODIFIED:20260421T051827
LOCATION:
SUMMARY:Sunday Worship
URL;VALUE=URI:https://firstgilbert.church/events/sunday-worship/2026-08-23
END:VEVENT
END:VCALENDAR
